BEGIN:VCALENDAR
VERSION:2.0
PRODID:-//The Trinitarians - India - ECPv5.3.2.1//NONSGML v1.0//EN
CALSCALE:GREGORIAN
METHOD:PUBLISH
X-WR-CALNAME:The Trinitarians - India
X-ORIGINAL-URL:https://trinitariansindia.org/wp
X-WR-CALDESC:Events for The Trinitarians - India
BEGIN:VTIMEZONE
TZID:UTC
BEGIN:STANDARD
TZOFFSETFROM:+0000
TZOFFSETTO:+0000
TZNAME:UTC
DTSTART:20170101T000000
END:STANDARD
END:VTIMEZONE
BEGIN:VEVENT
DTSTART;VALUE=DATE:20170211
DTEND;VALUE=DATE:20170212
DTSTAMP:20260423T150607
CREATED:20170320T163204Z
LAST-MODIFIED:20170320T163204Z
UID:2380-1486771200-1486857599@trinitariansindia.org
SUMMARY:Picnic with Tea-Garden Girls
DESCRIPTION:There are 25 girls from different tea garden villages of Assam attending various vocation training programs under the initiative of SIT India managed by the Trinitarian friars with the support of the Green Garden Sisters (ASMI) in Tamulpur. Fr. Meby Varghese\, Bro. Roy and the ASMI Sisters took them for a one day picnic to Bogamatti which was an enjoyable time for all.
URL:https://trinitariansindia.org/wp/event/picnic-with-tea-garden-girls/
LOCATION:Tritva Bhavan\, Assam
CATEGORIES:Picnic/Tour
ATTACH;FMTTYPE=image/png:https://trinitariansindia.org/wp/wp-content/uploads/2017/03/tea-garden-girls-picnic.png
END:VEVENT
END:VCALENDAR