BEGIN:VCALENDAR
VERSION:2.0
PRODID:-//The Trinitarians - India - ECPv5.3.2.1//NONSGML v1.0//EN
CALSCALE:GREGORIAN
METHOD:PUBLISH
X-WR-CALNAME:The Trinitarians - India
X-ORIGINAL-URL:https://trinitariansindia.org/wp
X-WR-CALDESC:Events for The Trinitarians - India
BEGIN:VTIMEZONE
TZID:UTC
BEGIN:STANDARD
TZOFFSETFROM:+0000
TZOFFSETTO:+0000
TZNAME:UTC
DTSTART:20260101T000000
END:STANDARD
END:VTIMEZONE
BEGIN:VEVENT
DTSTART;VALUE=DATE:20260331
DTEND;VALUE=DATE:20260401
DTSTAMP:20260423T151705
CREATED:20260417T173506Z
LAST-MODIFIED:20260417T173506Z
UID:14028-1774915200-1775001599@trinitariansindia.org
SUMMARY:Pilgrimage to Malayatoor
DESCRIPTION:We\, as a community\, visited the Malayatoor  St. Thomas Pilgrimage Centre. It was a spiritually enriching experience for all of us. We walked the Way of the Cross with deep devotion\, reflecting on the passion of Jesus. Together\, we prayed for our intentions\, for our mission\, and for the people entrusted to our care. The entire pilgrimage strengthened our faith\, deepened our unity as a community\, and filled our hearts with peace and grace.
URL:https://trinitariansindia.org/wp/event/pilgrimage-to-malayatoor/
LOCATION:Trinitarian Sisters\, Thrissur\, Holy Trinity Convent\, Thrissur\, Kerala\, 680618\, India
CATEGORIES:Pilgrimage
ATTACH;FMTTYPE=image/png:https://trinitariansindia.org/wp/wp-content/uploads/2026/04/SISTERS-pilgrimage-March2026.png
END:VEVENT
END:VCALENDAR