BEGIN:VCALENDAR
VERSION:2.0
PRODID:-//The Trinitarians - India - ECPv5.3.2.1//NONSGML v1.0//EN
CALSCALE:GREGORIAN
METHOD:PUBLISH
X-WR-CALNAME:The Trinitarians - India
X-ORIGINAL-URL:https://trinitariansindia.org/wp
X-WR-CALDESC:Events for The Trinitarians - India
BEGIN:VTIMEZONE
TZID:UTC
BEGIN:STANDARD
TZOFFSETFROM:+0000
TZOFFSETTO:+0000
TZNAME:UTC
DTSTART:20210101T000000
END:STANDARD
END:VTIMEZONE
BEGIN:VEVENT
DTSTART;VALUE=DATE:20211110
DTEND;VALUE=DATE:20211111
DTSTAMP:20260424T033544
CREATED:20211108T095428Z
LAST-MODIFIED:20211108T095428Z
UID:9313-1636502400-1636588799@trinitariansindia.org
SUMMARY:Pilgrimage to St. Joseph's Church at Kalkere
DESCRIPTION:Community went for a pilgrimage to St. Joseph\,s Church at Kalkere\, Bengaluru. We had a Holy Mass with the parishioners\, Fr. Janil O.SS.T. celebrated the Holy mass and a short reflection by Fr. Joseph. It was really an enriching day for the community.
URL:https://trinitariansindia.org/wp/event/pilgrimage-to-st-josephs-church-at-kalkere/
LOCATION:Holy Trinity Ashram – Bengaluru\, Holy Trinity Ashram\, Bengaluru\, karnataka\, 560076\, India
CATEGORIES:Pilgrimage
ATTACH;FMTTYPE=image/png:https://trinitariansindia.org/wp/wp-content/uploads/2021/11/BLR-pilgrimage-Oct2021.png
END:VEVENT
END:VCALENDAR