BEGIN:VCALENDAR
VERSION:2.0
PRODID:-//The Trinitarians - India - ECPv5.3.2.1//NONSGML v1.0//EN
CALSCALE:GREGORIAN
METHOD:PUBLISH
X-WR-CALNAME:The Trinitarians - India
X-ORIGINAL-URL:https://trinitariansindia.org/wp
X-WR-CALDESC:Events for The Trinitarians - India
BEGIN:VTIMEZONE
TZID:UTC
BEGIN:STANDARD
TZOFFSETFROM:+0000
TZOFFSETTO:+0000
TZNAME:UTC
DTSTART:20190101T000000
END:STANDARD
END:VTIMEZONE
BEGIN:VEVENT
DTSTART;VALUE=DATE:20190512
DTEND;VALUE=DATE:20190513
DTSTAMP:20260422T155250
CREATED:20190615T045710Z
LAST-MODIFIED:20190615T045710Z
UID:6068-1557619200-1557705599@trinitariansindia.org
SUMMARY:Pilgrimage to Vatican
DESCRIPTION:Fr. Jolly\, O.SS.T.\, the Parish Priest\, along with the respective catechism teachers accompanied the children who are preparing for the First Holy Communion to Vatican and Rome for one day pilgrimage. They had also attended the Papal Angelus.
URL:https://trinitariansindia.org/wp/event/pilgrimage-to-vatican/
LOCATION:Rome
CATEGORIES:Pilgrimage
ATTACH;FMTTYPE=image/png:https://trinitariansindia.org/wp/wp-content/uploads/2019/06/ITALY-parish-picnic-May-2019.png
END:VEVENT
END:VCALENDAR