BEGIN:VCALENDAR
VERSION:2.0
PRODID:-//The Trinitarians - India - ECPv5.3.2.1//NONSGML v1.0//EN
CALSCALE:GREGORIAN
METHOD:PUBLISH
X-WR-CALNAME:The Trinitarians - India
X-ORIGINAL-URL:https://trinitariansindia.org/wp
X-WR-CALDESC:Events for The Trinitarians - India
BEGIN:VTIMEZONE
TZID:UTC
BEGIN:STANDARD
TZOFFSETFROM:+0000
TZOFFSETTO:+0000
TZNAME:UTC
DTSTART:20200101T000000
END:STANDARD
END:VTIMEZONE
BEGIN:VEVENT
DTSTART;VALUE=DATE:20201029
DTEND;VALUE=DATE:20201030
DTSTAMP:20260426T033639
CREATED:20201107T062450Z
LAST-MODIFIED:20201107T062450Z
UID:8058-1603929600-1604015999@trinitariansindia.org
SUMMARY:Plentiful Harvest
DESCRIPTION:We had abundance of grape harvest with the help of Mr Mario\, a parishner. Around hundred kg was picked and almost forty liters of wine would be made out of it.
URL:https://trinitariansindia.org/wp/event/plentiful-harvest-2/
LOCATION:Rome
ATTACH;FMTTYPE=image/png:https://trinitariansindia.org/wp/wp-content/uploads/2020/11/ITALY-harvesting-Oct2020.png
END:VEVENT
END:VCALENDAR