BEGIN:VCALENDAR
VERSION:2.0
PRODID:-//The Trinitarians - India - ECPv5.3.2.1//NONSGML v1.0//EN
CALSCALE:GREGORIAN
METHOD:PUBLISH
X-WR-CALNAME:The Trinitarians - India
X-ORIGINAL-URL:https://trinitariansindia.org/wp
X-WR-CALDESC:Events for The Trinitarians - India
BEGIN:VTIMEZONE
TZID:UTC
BEGIN:STANDARD
TZOFFSETFROM:+0000
TZOFFSETTO:+0000
TZNAME:UTC
DTSTART:20200101T000000
END:STANDARD
END:VTIMEZONE
BEGIN:VEVENT
DTSTART;VALUE=DATE:20201114
DTEND;VALUE=DATE:20201115
DTSTAMP:20260425T105352
CREATED:20201209T042236Z
LAST-MODIFIED:20201209T042236Z
UID:8219-1605312000-1605398399@trinitariansindia.org
SUMMARY:Plentiful Harvest!
DESCRIPTION:God has blessed us with a plentiful harvest of the paddy. We harvested under the leadership of Fr. Diljo and brothers.
URL:https://trinitariansindia.org/wp/event/plentiful-harvest-3/
LOCATION:Rome
ATTACH;FMTTYPE=image/png:https://trinitariansindia.org/wp/wp-content/uploads/2020/12/ASSAM-paddy-harvesting-Nov-2020.png
END:VEVENT
END:VCALENDAR