BEGIN:VCALENDAR
VERSION:2.0
PRODID:-//The Trinitarians - India - ECPv5.3.2.1//NONSGML v1.0//EN
CALSCALE:GREGORIAN
METHOD:PUBLISH
X-WR-CALNAME:The Trinitarians - India
X-ORIGINAL-URL:https://trinitariansindia.org/wp
X-WR-CALDESC:Events for The Trinitarians - India
BEGIN:VTIMEZONE
TZID:UTC
BEGIN:STANDARD
TZOFFSETFROM:+0000
TZOFFSETTO:+0000
TZNAME:UTC
DTSTART:20220101T000000
END:STANDARD
END:VTIMEZONE
BEGIN:VEVENT
DTSTART;VALUE=DATE:20221001
DTEND;VALUE=DATE:20221006
DTSTAMP:20260421T171317
CREATED:20221023T081344Z
LAST-MODIFIED:20221023T081344Z
UID:11090-1664582400-1665014399@trinitariansindia.org
SUMMARY:Time of Prayer and Reflection
DESCRIPTION:The day of Chapter were days of prayer and reflection together.  All participated actively in the prayer sessions.  Holy Mass was celebrated by various groups assigned.
URL:https://trinitariansindia.org/wp/event/prayer-and-reflection/
LOCATION:Vice-Province Admin\, Holy Trinity Ashram\, Bangalore\, 560076\, India
CATEGORIES:VP Chapter
ATTACH;FMTTYPE=image/png:https://trinitariansindia.org/wp/wp-content/uploads/2022/10/VP-Chapter-at-prayer-Oct2022-1.png
END:VEVENT
END:VCALENDAR