BEGIN:VCALENDAR
VERSION:2.0
PRODID:-//The Trinitarians - India - ECPv5.3.2.1//NONSGML v1.0//EN
CALSCALE:GREGORIAN
METHOD:PUBLISH
X-WR-CALNAME:The Trinitarians - India
X-ORIGINAL-URL:https://trinitariansindia.org/wp
X-WR-CALDESC:Events for The Trinitarians - India
BEGIN:VTIMEZONE
TZID:UTC
BEGIN:STANDARD
TZOFFSETFROM:+0000
TZOFFSETTO:+0000
TZNAME:UTC
DTSTART:20240101T000000
END:STANDARD
END:VTIMEZONE
BEGIN:VEVENT
DTSTART;VALUE=DATE:20241020
DTEND;VALUE=DATE:20241021
DTSTAMP:20260419T170446
CREATED:20241026T055636Z
LAST-MODIFIED:20241026T055636Z
UID:13533-1729382400-1729468799@trinitariansindia.org
SUMMARY:Prayer Day for the Persecuted Christians
DESCRIPTION:The community along with Third Order members organized a time of prayers before the Eucharistic Lord from 10 am to 12.15 pm seeking God’s intervention in the lives and places of persecution.  We interceded for all those who are persecuted for their perseverance in their faith in Christ and courageous witness.
URL:https://trinitariansindia.org/wp/event/prayer-day-for-the-persecuted-christians-2/
LOCATION:Holy Trinity Ashram – Bengaluru\, Holy Trinity Ashram\, Bengaluru\, karnataka\, 560076\, India
CATEGORIES:Prayer day
ATTACH;FMTTYPE=image/png:https://trinitariansindia.org/wp/wp-content/uploads/2024/10/BLR-adoration-for-persecuted-Oct.2024.png
END:VEVENT
END:VCALENDAR