BEGIN:VCALENDAR
VERSION:2.0
PRODID:-//The Trinitarians - India - ECPv5.3.2.1//NONSGML v1.0//EN
CALSCALE:GREGORIAN
METHOD:PUBLISH
X-WR-CALNAME:The Trinitarians - India
X-ORIGINAL-URL:https://trinitariansindia.org/wp
X-WR-CALDESC:Events for The Trinitarians - India
BEGIN:VTIMEZONE
TZID:UTC
BEGIN:STANDARD
TZOFFSETFROM:+0000
TZOFFSETTO:+0000
TZNAME:UTC
DTSTART:20200101T000000
END:STANDARD
END:VTIMEZONE
BEGIN:VEVENT
DTSTART;VALUE=DATE:20201021
DTEND;VALUE=DATE:20201024
DTSTAMP:20260425T130234
CREATED:20201107T093616Z
LAST-MODIFIED:20201107T093616Z
UID:8071-1603238400-1603497599@trinitariansindia.org
SUMMARY:Prayer Week for the Persecuted Christians
DESCRIPTION:The Bangalore community celebrated the feast of Holy Redeemer with great joy and enthusiasm. As a preparation for the feast\, the community conducted special prayer services for eight days with the different intention of the persecuted Christians. The commemoration started with the Novena to the Holy Redeemer. The special way of decoration in the chapel really pitched and recalled how the people are still persecuted in the name of Jesus Christ. On Thursday 21st October the community conducted the Way of the Cross with the special intention of the victims of persecution. The way of the cross concluded in the chapel by special blessing by Fr. Janil Chakkiath O.SST. On 22nd the community scheduled Holy Adoration with the special intention for the persecuted Christians. Brother Doyal and team animated the adoration and the community decided to fast at night and pray for them and join with their suffering. 23rd the community celebrated the feast of the Holy Redeemer; the celebration began with the Holy Mass offered by the Provincial of Indian vice province Fr. Joseph Muthuplackal O.SS.T.
URL:https://trinitariansindia.org/wp/event/prayer-week-for-the-persecuted-christians-3/
LOCATION:Holy Trinity Ashram – Bengaluru\, Holy Trinity Ashram\, Bengaluru\, karnataka\, 560076\, India
CATEGORIES:Prayer day
ATTACH;FMTTYPE=image/png:https://trinitariansindia.org/wp/wp-content/uploads/2020/11/BLR-prayer-for-persecuted-Christians1-Oct2020-1.png
END:VEVENT
END:VCALENDAR