BEGIN:VCALENDAR
VERSION:2.0
PRODID:-//The Trinitarians - India - ECPv5.3.2.1//NONSGML v1.0//EN
CALSCALE:GREGORIAN
METHOD:PUBLISH
X-WR-CALNAME:The Trinitarians - India
X-ORIGINAL-URL:https://trinitariansindia.org/wp
X-WR-CALDESC:Events for The Trinitarians - India
BEGIN:VTIMEZONE
TZID:UTC
BEGIN:STANDARD
TZOFFSETFROM:+0000
TZOFFSETTO:+0000
TZNAME:UTC
DTSTART:20200101T000000
END:STANDARD
END:VTIMEZONE
BEGIN:VEVENT
DTSTART;VALUE=DATE:20201021
DTEND;VALUE=DATE:20201022
DTSTAMP:20260425T131147
CREATED:20201103T043424Z
LAST-MODIFIED:20201103T043424Z
UID:8019-1603238400-1603324799@trinitariansindia.org
SUMMARY:Prayer Week for the Persecuted Christians - Thrissur
DESCRIPTION:The Community set apart this day as a prayer and fasting\, in solidarity with the suffering Church. We avoided the classes on the entire day and spent time in prayer and adoration. At Morning\, after the Holy Mass\, the Holy Eucharist was exposed and the community spent with the Lord in different groups. At 10:30am\, Trinitarian sisters also joined us for the adoration. At 11:30am\, the whole community came together and spent in one-hour of adoration\, led by Frs. Mathew and Jins. As a gesture of our union with the persecuted Christians\, we skipped the Lunch. Afternoon\, at 2:30pm\, we had a solemn way of the cross for the persecuted Christians. The Trinitarian sisters joined with the community. After the tea\, they dispersed.
URL:https://trinitariansindia.org/wp/event/prayer-week-for-the-persecuted-christians-thrissur/
LOCATION:Holy Trinity Ashram\, Thrissur\, Holy Trinity Ashram\, Thrissur\, Kerala\, 680618\, India
CATEGORIES:Prayer day
ATTACH;FMTTYPE=image/png:https://trinitariansindia.org/wp/wp-content/uploads/2020/11/TCR-prayer-for-persecuted-Christians-Oct2020.png
END:VEVENT
END:VCALENDAR