BEGIN:VCALENDAR
VERSION:2.0
PRODID:-//The Trinitarians - India - ECPv5.3.2.1//NONSGML v1.0//EN
CALSCALE:GREGORIAN
METHOD:PUBLISH
X-WR-CALNAME:The Trinitarians - India
X-ORIGINAL-URL:https://trinitariansindia.org/wp
X-WR-CALDESC:Events for The Trinitarians - India
BEGIN:VTIMEZONE
TZID:UTC
BEGIN:STANDARD
TZOFFSETFROM:+0000
TZOFFSETTO:+0000
TZNAME:UTC
DTSTART:20220101T000000
END:STANDARD
END:VTIMEZONE
BEGIN:VEVENT
DTSTART;VALUE=DATE:20220911
DTEND;VALUE=DATE:20220912
DTSTAMP:20260423T034203
CREATED:20221015T054222Z
LAST-MODIFIED:20221015T054222Z
UID:10971-1662854400-1662940799@trinitariansindia.org
SUMMARY:Pulikali
DESCRIPTION:The Community joined with one of the typical celebrations of Thrissur City\, that is Pulikali. It was a moment of amazement and surprize for many of them\, as they were seeing it for the first time.
URL:https://trinitariansindia.org/wp/event/pulikali/
LOCATION:Holy Trinity Ashram\, Thrissur\, Holy Trinity Ashram\, Thrissur\, Kerala\, 680618\, India
ATTACH;FMTTYPE=image/png:https://trinitariansindia.org/wp/wp-content/uploads/2022/10/TCR-Pulikali-Sept2022.png
END:VEVENT
END:VCALENDAR