BEGIN:VCALENDAR
VERSION:2.0
PRODID:-//The Trinitarians - India - ECPv5.3.2.1//NONSGML v1.0//EN
CALSCALE:GREGORIAN
METHOD:PUBLISH
X-WR-CALNAME:The Trinitarians - India
X-ORIGINAL-URL:https://trinitariansindia.org/wp
X-WR-CALDESC:Events for The Trinitarians - India
BEGIN:VTIMEZONE
TZID:UTC
BEGIN:STANDARD
TZOFFSETFROM:+0000
TZOFFSETTO:+0000
TZNAME:UTC
DTSTART:20230101T000000
END:STANDARD
END:VTIMEZONE
BEGIN:VEVENT
DTSTART;VALUE=DATE:20230723
DTEND;VALUE=DATE:20230724
DTSTAMP:20260424T094401
CREATED:20230806T164927Z
LAST-MODIFIED:20230806T164927Z
UID:12173-1690070400-1690156799@trinitariansindia.org
SUMMARY:Renewal of Vows
DESCRIPTION:“Set me as a seal upon your heart\, as a seal upon your arm; for love is strong as death\, passion fierce as the gave” (Song of Solomon 8:6).  Our sisters Sr. Jismaria and Sr. Sona renewed their vows to Sr. Alphonsa Veliyath\, the Superior\, in the presence of the community in the Holy Trinity Convent\, Aranattukara. We had special renewal prayer where we prayed for them\, for their vocation and for their family.
URL:https://trinitariansindia.org/wp/event/renewal-of-vows-7/
LOCATION:Trinitarian Sisters\, Thrissur\, Holy Trinity Convent\, Thrissur\, Kerala\, 680618\, India
CATEGORIES:Renewal of Vows
ATTACH;FMTTYPE=image/png:https://trinitariansindia.org/wp/wp-content/uploads/2023/08/SISTERS-renewal-of-vows-July2-23.png
END:VEVENT
END:VCALENDAR