BEGIN:VCALENDAR
VERSION:2.0
PRODID:-//The Trinitarians - India - ECPv5.3.2.1//NONSGML v1.0//EN
CALSCALE:GREGORIAN
METHOD:PUBLISH
X-WR-CALNAME:The Trinitarians - India
X-ORIGINAL-URL:https://trinitariansindia.org/wp
X-WR-CALDESC:Events for The Trinitarians - India
BEGIN:VTIMEZONE
TZID:UTC
BEGIN:STANDARD
TZOFFSETFROM:+0000
TZOFFSETTO:+0000
TZNAME:UTC
DTSTART:20180101T000000
END:STANDARD
END:VTIMEZONE
BEGIN:VEVENT
DTSTART;VALUE=DATE:20180126
DTEND;VALUE=DATE:20180127
DTSTAMP:20260422T061500
CREATED:20180209T161938Z
LAST-MODIFIED:20180209T161938Z
UID:3877-1516924800-1517011199@trinitariansindia.org
SUMMARY:Republic Day Celebrations
DESCRIPTION:St. Xavier’s High School\, Tamulpur\, celebrated the Republic Day of India.  Sr. Mary\, ASMI\,  hoisted the flag\, in the presence of the teachers and students.
URL:https://trinitariansindia.org/wp/event/republic-day-celebrations/
LOCATION:Tritva Bhavan\, Assam
CATEGORIES:Celebration
ATTACH;FMTTYPE=image/png:https://trinitariansindia.org/wp/wp-content/uploads/2018/02/Assam-Republic-day-Jan-18.png
END:VEVENT
END:VCALENDAR