BEGIN:VCALENDAR
VERSION:2.0
PRODID:-//The Trinitarians - India - ECPv5.3.2.1//NONSGML v1.0//EN
CALSCALE:GREGORIAN
METHOD:PUBLISH
X-WR-CALNAME:The Trinitarians - India
X-ORIGINAL-URL:https://trinitariansindia.org/wp
X-WR-CALDESC:Events for The Trinitarians - India
BEGIN:VTIMEZONE
TZID:UTC
BEGIN:STANDARD
TZOFFSETFROM:+0000
TZOFFSETTO:+0000
TZNAME:UTC
DTSTART:20210101T000000
END:STANDARD
END:VTIMEZONE
BEGIN:VEVENT
DTSTART;VALUE=DATE:20210605
DTEND;VALUE=DATE:20210609
DTSTAMP:20260421T121211
CREATED:20210719T094002Z
LAST-MODIFIED:20210719T094002Z
UID:8978-1622851200-1623196799@trinitariansindia.org
SUMMARY:Retreat Animated by Sr Betsy SABS
DESCRIPTION:Sr. Betsy SABS animated the retreat for the brothers as three of our brothers are preparing to enter into the Postulancy. The Retreat started was conducted from 5th to 8th June.
URL:https://trinitariansindia.org/wp/event/retreat-animated-by-sr-betsy-sabs/
LOCATION:Holy Trinity Ashram\, Kasaragod
CATEGORIES:Retreat
ATTACH;FMTTYPE=image/png:https://trinitariansindia.org/wp/wp-content/uploads/2021/07/KGQ-retreat-June2021.png
END:VEVENT
END:VCALENDAR