BEGIN:VCALENDAR
VERSION:2.0
PRODID:-//The Trinitarians - India - ECPv5.3.2.1//NONSGML v1.0//EN
CALSCALE:GREGORIAN
METHOD:PUBLISH
X-WR-CALNAME:The Trinitarians - India
X-ORIGINAL-URL:https://trinitariansindia.org/wp
X-WR-CALDESC:Events for The Trinitarians - India
BEGIN:VTIMEZONE
TZID:UTC
BEGIN:STANDARD
TZOFFSETFROM:+0000
TZOFFSETTO:+0000
TZNAME:UTC
DTSTART:20190101T000000
END:STANDARD
END:VTIMEZONE
BEGIN:VEVENT
DTSTART;VALUE=DATE:20190414
DTEND;VALUE=DATE:20190415
DTSTAMP:20260423T183156
CREATED:20190430T060032Z
LAST-MODIFIED:20190430T060032Z
UID:5936-1555200000-1555286399@trinitariansindia.org
SUMMARY:Retreat for Third Order Members
DESCRIPTION:The arrival of Fr. Jaison Kulampally\, O.SS.T. to preach at the conclusion of the Way of the Cross conducted for the persecuted Christians. The Way of the Cross began at 4 p.m. and Fr. Biju animated it with the specific intensions and prayers for 14 countries where persecutions are rampant. Fr. Jaison began the preaching at 5.30 p.m. and concluded at 8.30 p.m. with the Eucharistic adorations. The Third Order members and also people from the neighbouring parishes joined the spiritual service. \n \n \n  \n 
URL:https://trinitariansindia.org/wp/event/retreat-for-third-order-members-2/
LOCATION:Holy Trinity Ashram\, Kasaragod
CATEGORIES:Retreat,Third Order
ATTACH;FMTTYPE=image/png:https://trinitariansindia.org/wp/wp-content/uploads/2019/04/KGQ-way-of-the-cross3-April-2019.png
END:VEVENT
END:VCALENDAR