BEGIN:VCALENDAR
VERSION:2.0
PRODID:-//The Trinitarians - India - ECPv5.3.2.1//NONSGML v1.0//EN
CALSCALE:GREGORIAN
METHOD:PUBLISH
X-WR-CALNAME:The Trinitarians - India
X-ORIGINAL-URL:https://trinitariansindia.org/wp
X-WR-CALDESC:Events for The Trinitarians - India
BEGIN:VTIMEZONE
TZID:UTC
BEGIN:STANDARD
TZOFFSETFROM:+0000
TZOFFSETTO:+0000
TZNAME:UTC
DTSTART:20190101T000000
END:STANDARD
END:VTIMEZONE
BEGIN:VEVENT
DTSTART;VALUE=DATE:20190411
DTEND;VALUE=DATE:20190412
DTSTAMP:20260423T234451
CREATED:20190503T163824Z
LAST-MODIFIED:20190503T163824Z
UID:5957-1554940800-1555027199@trinitariansindia.org
SUMMARY:Retreat @ Lingurkatta
DESCRIPTION:The community arranged one day retreat in Lingurkatta village Church. Sr. Nisha from Jharkhand animated the retreat and Frs. Meby and Jojo celebrated the Holy Mass.
URL:https://trinitariansindia.org/wp/event/retreat-lingurkatta/
LOCATION:Tritva Bhavan\, Assam
CATEGORIES:Retreat
ATTACH;FMTTYPE=image/png:https://trinitariansindia.org/wp/wp-content/uploads/2019/05/ASSAM-retreat-April-2019.png
END:VEVENT
END:VCALENDAR