BEGIN:VCALENDAR
VERSION:2.0
PRODID:-//The Trinitarians - India - ECPv5.3.2.1//NONSGML v1.0//EN
CALSCALE:GREGORIAN
METHOD:PUBLISH
X-WR-CALNAME:The Trinitarians - India
X-ORIGINAL-URL:https://trinitariansindia.org/wp
X-WR-CALDESC:Events for The Trinitarians - India
BEGIN:VTIMEZONE
TZID:UTC
BEGIN:STANDARD
TZOFFSETFROM:+0000
TZOFFSETTO:+0000
TZNAME:UTC
DTSTART:20230101T000000
END:STANDARD
END:VTIMEZONE
BEGIN:VEVENT
DTSTART;VALUE=DATE:20231031
DTEND;VALUE=DATE:20231101
DTSTAMP:20260421T120612
CREATED:20231111T110515Z
LAST-MODIFIED:20231111T110515Z
UID:12540-1698710400-1698796799@trinitariansindia.org
SUMMARY:Rosary Month Devotion
DESCRIPTION:Rosary is a month where we remember and dedicate more time to spend with Mother Mary.  During the month of Rosary we made special efforts to pray rosary.  We conducted month of Rosary with a  candle lit procession which remains as a beautify memory in our hearts.
URL:https://trinitariansindia.org/wp/event/rosary-month-devotion/
LOCATION:Trinitarian Sisters\, Thrissur\, Holy Trinity Convent\, Thrissur\, Kerala\, 680618\, India
CATEGORIES:Celebration
ATTACH;FMTTYPE=image/png:https://trinitariansindia.org/wp/wp-content/uploads/2023/11/SISTERS-rosary-procession-Oct2023.png
END:VEVENT
END:VCALENDAR