BEGIN:VCALENDAR
VERSION:2.0
PRODID:-//The Trinitarians - India - ECPv5.3.2.1//NONSGML v1.0//EN
CALSCALE:GREGORIAN
METHOD:PUBLISH
X-WR-CALNAME:The Trinitarians - India
X-ORIGINAL-URL:https://trinitariansindia.org/wp
X-WR-CALDESC:Events for The Trinitarians - India
BEGIN:VTIMEZONE
TZID:UTC
BEGIN:STANDARD
TZOFFSETFROM:+0000
TZOFFSETTO:+0000
TZNAME:UTC
DTSTART:20230101T000000
END:STANDARD
END:VTIMEZONE
BEGIN:VEVENT
DTSTART;VALUE=DATE:20231030
DTEND;VALUE=DATE:20231031
DTSTAMP:20260421T090058
CREATED:20231112T061541Z
LAST-MODIFIED:20231112T061541Z
UID:12599-1698624000-1698710399@trinitariansindia.org
SUMMARY:Rosary Procession
DESCRIPTION:DeMatha Boy’s Home celebrated the conclusion of the Rosary Month with a Rosary Procession with a special intention for the Persecuted Christians around the World and especially for the people in Manipur.
URL:https://trinitariansindia.org/wp/event/rosary-procession-18/
LOCATION:Holy Trinity Ashram – Bengaluru\, Holy Trinity Ashram\, Bengaluru\, karnataka\, 560076\, India
CATEGORIES:Celebration
ATTACH;FMTTYPE=image/png:https://trinitariansindia.org/wp/wp-content/uploads/2023/11/ASSAM-Rosary-procession-Oct2023.png
END:VEVENT
END:VCALENDAR