BEGIN:VCALENDAR
VERSION:2.0
PRODID:-//The Trinitarians - India - ECPv5.3.2.1//NONSGML v1.0//EN
CALSCALE:GREGORIAN
METHOD:PUBLISH
X-WR-CALNAME:The Trinitarians - India
X-ORIGINAL-URL:https://trinitariansindia.org/wp
X-WR-CALDESC:Events for The Trinitarians - India
BEGIN:VTIMEZONE
TZID:UTC
BEGIN:STANDARD
TZOFFSETFROM:+0000
TZOFFSETTO:+0000
TZNAME:UTC
DTSTART:20200101T000000
END:STANDARD
END:VTIMEZONE
BEGIN:VEVENT
DTSTART;VALUE=DATE:20201026
DTEND;VALUE=DATE:20201029
DTSTAMP:20260426T000803
CREATED:20201110T103114Z
LAST-MODIFIED:20201110T103114Z
UID:8112-1603670400-1603929599@trinitariansindia.org
SUMMARY:Rubber Plantation Work
DESCRIPTION:The community collaborated together with love to manure the Rubber trees from 26th to 28th October
URL:https://trinitariansindia.org/wp/event/rubber-plantation-work/
LOCATION:Holy Trinity Ashram\, Kasaragod
ATTACH;FMTTYPE=image/png:https://trinitariansindia.org/wp/wp-content/uploads/2020/11/KGQ-manuaring-rubber-plants-Oct2020.png
END:VEVENT
END:VCALENDAR