BEGIN:VCALENDAR
VERSION:2.0
PRODID:-//The Trinitarians - India - ECPv5.3.2.1//NONSGML v1.0//EN
CALSCALE:GREGORIAN
METHOD:PUBLISH
X-WR-CALNAME:The Trinitarians - India
X-ORIGINAL-URL:https://trinitariansindia.org/wp
X-WR-CALDESC:Events for The Trinitarians - India
BEGIN:VTIMEZONE
TZID:UTC
BEGIN:STANDARD
TZOFFSETFROM:+0000
TZOFFSETTO:+0000
TZNAME:UTC
DTSTART:20190101T000000
END:STANDARD
END:VTIMEZONE
BEGIN:VEVENT
DTSTART;VALUE=DATE:20190608
DTEND;VALUE=DATE:20190609
DTSTAMP:20260421T121124
CREATED:20190725T041652Z
LAST-MODIFIED:20190725T042213Z
UID:6094-1559952000-1560038399@trinitariansindia.org
SUMMARY:Sacrament of Confirmation
DESCRIPTION:It was a day of special grace for the parish as 52 children received the sacrament of Confirmation. The sacrament was administered by Don Mariano\, the VG of the Archdiocese of Gaeta. All the Trinitarian priests of the community including Fr Joseph\, OSST\, the Vice Provincial and Fr. Jojo\, OSST\, who arrived here this morning\, concelebrated the Holy Mass. \n 
URL:https://trinitariansindia.org/wp/event/sacrament-of-confirmation/
LOCATION:Rome
CATEGORIES:Celebration
ATTACH;FMTTYPE=image/png:https://trinitariansindia.org/wp/wp-content/uploads/2019/06/ITALY-holy-communiion-May-2019.png
END:VEVENT
END:VCALENDAR