BEGIN:VCALENDAR
VERSION:2.0
PRODID:-//The Trinitarians - India - ECPv5.3.2.1//NONSGML v1.0//EN
CALSCALE:GREGORIAN
METHOD:PUBLISH
X-WR-CALNAME:The Trinitarians - India
X-ORIGINAL-URL:https://trinitariansindia.org/wp
X-WR-CALDESC:Events for The Trinitarians - India
BEGIN:VTIMEZONE
TZID:UTC
BEGIN:STANDARD
TZOFFSETFROM:+0000
TZOFFSETTO:+0000
TZNAME:UTC
DTSTART:20210101T000000
END:STANDARD
END:VTIMEZONE
BEGIN:VEVENT
DTSTART;VALUE=DATE:20210123
DTEND;VALUE=DATE:20210124
DTSTAMP:20260426T034324
CREATED:20210211T122916Z
LAST-MODIFIED:20210211T122930Z
UID:8590-1611360000-1611446399@trinitariansindia.org
SUMMARY:Silver Jubilee Celebrations
DESCRIPTION:The community celebrated the Silver Jubilee of the first profession of our dear fathers Joseph\, Antony and Simine. It was a wonderful celebration. The celebration began with the Holy Mass. The community arranged a short cultural programme to felicitate the jubilarians. The member of the neighbouring communities were present for the celebrations.
URL:https://trinitariansindia.org/wp/event/silver-jubilee-celebrations/
LOCATION:Holy Trinity Ashram – Bengaluru\, Holy Trinity Ashram\, Bengaluru\, karnataka\, 560076\, India
CATEGORIES:Celebration,Jubilee
ATTACH;FMTTYPE=image/png:https://trinitariansindia.org/wp/wp-content/uploads/2021/02/BLR-silver-jubilee-Jan2021.png
END:VEVENT
END:VCALENDAR