BEGIN:VCALENDAR
VERSION:2.0
PRODID:-//The Trinitarians - India - ECPv5.3.2.1//NONSGML v1.0//EN
CALSCALE:GREGORIAN
METHOD:PUBLISH
X-WR-CALNAME:The Trinitarians - India
X-ORIGINAL-URL:https://trinitariansindia.org/wp
X-WR-CALDESC:Events for The Trinitarians - India
BEGIN:VTIMEZONE
TZID:UTC
BEGIN:STANDARD
TZOFFSETFROM:+0000
TZOFFSETTO:+0000
TZNAME:UTC
DTSTART:20160101T000000
END:STANDARD
END:VTIMEZONE
BEGIN:VEVENT
DTSTART;VALUE=DATE:20161020
DTEND;VALUE=DATE:20161021
DTSTAMP:20260422T164335
CREATED:20161123T131746Z
LAST-MODIFIED:20161124T043245Z
UID:1873-1476921600-1477007999@trinitariansindia.org
SUMMARY:Silver Jubilee of First Profession of Fr. Francis Kulathingal
DESCRIPTION:Silver Jubilee of the First Profession of Fr. Francis Kulathingal\, O.SS.T. celebrated at HTA\, Thrissur.
URL:https://trinitariansindia.org/wp/event/silver-jubilee-of-first-profession-of-fr-francis-kulathingal/
LOCATION:Trinitarian Sisters\, Thrissur\, Holy Trinity Convent\, Thrissur\, Kerala\, 680618
CATEGORIES:Anniversary
ATTACH;FMTTYPE=image/png:https://trinitariansindia.org/wp/wp-content/uploads/2016/10/Fr.-Francis-Silver-Jubilee.png
END:VEVENT
END:VCALENDAR