BEGIN:VCALENDAR
VERSION:2.0
PRODID:-//The Trinitarians - India - ECPv5.3.2.1//NONSGML v1.0//EN
CALSCALE:GREGORIAN
METHOD:PUBLISH
X-WR-CALNAME:The Trinitarians - India
X-ORIGINAL-URL:https://trinitariansindia.org/wp
X-WR-CALDESC:Events for The Trinitarians - India
BEGIN:VTIMEZONE
TZID:UTC
BEGIN:STANDARD
TZOFFSETFROM:+0000
TZOFFSETTO:+0000
TZNAME:UTC
DTSTART:20220101T000000
END:STANDARD
END:VTIMEZONE
BEGIN:VEVENT
DTSTART;VALUE=DATE:20220928
DTEND;VALUE=DATE:20220929
DTSTAMP:20260422T032351
CREATED:20221014T053429Z
LAST-MODIFIED:20221014T053429Z
UID:10880-1664323200-1664409599@trinitariansindia.org
SUMMARY:Sincere Welcome
DESCRIPTION:Br. Prakash arrived in the community after his Mission Experience and all of us extended him a very warm welcome.
URL:https://trinitariansindia.org/wp/event/sincere-welcome/
LOCATION:Holy Trinity Ashram – Bengaluru\, Holy Trinity Ashram\, Bengaluru\, karnataka\, 560076\, India
CATEGORIES:Welcome
ATTACH;FMTTYPE=image/png:https://trinitariansindia.org/wp/wp-content/uploads/2022/10/BLR-welcome-Bro.-Prakash-Sept2022.png
END:VEVENT
END:VCALENDAR