BEGIN:VCALENDAR
VERSION:2.0
PRODID:-//The Trinitarians - India - ECPv5.3.2.1//NONSGML v1.0//EN
CALSCALE:GREGORIAN
METHOD:PUBLISH
X-WR-CALNAME:The Trinitarians - India
X-ORIGINAL-URL:https://trinitariansindia.org/wp
X-WR-CALDESC:Events for The Trinitarians - India
BEGIN:VTIMEZONE
TZID:UTC
BEGIN:STANDARD
TZOFFSETFROM:+0000
TZOFFSETTO:+0000
TZNAME:UTC
DTSTART:20190101T000000
END:STANDARD
END:VTIMEZONE
BEGIN:VEVENT
DTSTART;VALUE=DATE:20190428
DTEND;VALUE=DATE:20190502
DTSTAMP:20260422T235013
CREATED:20190615T070917Z
LAST-MODIFIED:20190615T070917Z
UID:6076-1556409600-1556755199@trinitariansindia.org
SUMMARY:SIT International Meeting
DESCRIPTION:Fr. Jojo George\, O.SS.T.\, participated in the SIT International meetings held in Poland. He had an opportunity to present the SIT India activities and the current projects of the Vice Province.
URL:https://trinitariansindia.org/wp/event/sit-international-meeting/
LOCATION:Vice-Province Admin\, Holy Trinity Ashram\, Bangalore\, 560076\, India
CATEGORIES:Meeting
ATTACH;FMTTYPE=image/png:https://trinitariansindia.org/wp/wp-content/uploads/2019/06/SIT-Intl-meeting-Poland-May-2019.png
END:VEVENT
END:VCALENDAR