BEGIN:VCALENDAR
VERSION:2.0
PRODID:-//The Trinitarians - India - ECPv5.3.2.1//NONSGML v1.0//EN
CALSCALE:GREGORIAN
METHOD:PUBLISH
X-WR-CALNAME:The Trinitarians - India
X-ORIGINAL-URL:https://trinitariansindia.org/wp
X-WR-CALDESC:Events for The Trinitarians - India
BEGIN:VTIMEZONE
TZID:UTC
BEGIN:STANDARD
TZOFFSETFROM:+0000
TZOFFSETTO:+0000
TZNAME:UTC
DTSTART:20190101T000000
END:STANDARD
END:VTIMEZONE
BEGIN:VEVENT
DTSTART;VALUE=DATE:20190511
DTEND;VALUE=DATE:20190512
DTSTAMP:20260422T202725
CREATED:20190615T044821Z
LAST-MODIFIED:20190615T044912Z
UID:6056-1557532800-1557619199@trinitariansindia.org
SUMMARY:Solemn Profession of Bro. Rinto Mathew
DESCRIPTION:Bro. Rinto Mathew\, O.SS.T.\, made his solemn profession along with another friar from the Italian Province. Fr. Luigi\, the Provincial of the Italian Province received their vows. The ceremony was conducted at the Trinitarian Monastery at Fornaci near Vatican. It was a grace-filled ceremony. It was attended by many Trinitarian fathers\, brothers\, sisters and lay members. Frs Simine and Sibi represented the Indian community for the profession.
URL:https://trinitariansindia.org/wp/event/solemn-profession-of-bro-rinto-mathew/
LOCATION:Vice-Province Admin\, Holy Trinity Ashram\, Bangalore\, 560076\, India
CATEGORIES:Solemn Profession
ATTACH;FMTTYPE=image/png:https://trinitariansindia.org/wp/wp-content/uploads/2019/06/Congrats-to-Rinto-Solemn-vows-11-May-2019.png
END:VEVENT
END:VCALENDAR