BEGIN:VCALENDAR
VERSION:2.0
PRODID:-//The Trinitarians - India - ECPv5.3.2.1//NONSGML v1.0//EN
CALSCALE:GREGORIAN
METHOD:PUBLISH
X-WR-CALNAME:The Trinitarians - India
X-ORIGINAL-URL:https://trinitariansindia.org/wp
X-WR-CALDESC:Events for The Trinitarians - India
BEGIN:VTIMEZONE
TZID:UTC
BEGIN:STANDARD
TZOFFSETFROM:+0000
TZOFFSETTO:+0000
TZNAME:UTC
DTSTART:20220101T000000
END:STANDARD
END:VTIMEZONE
BEGIN:VEVENT
DTSTART;VALUE=DATE:20221101
DTEND;VALUE=DATE:20221102
DTSTAMP:20260421T105208
CREATED:20221214T044043Z
LAST-MODIFIED:20221214T044043Z
UID:11426-1667260800-1667347199@trinitariansindia.org
SUMMARY:Solemnity of All Saints
DESCRIPTION:Community celebrated the solemnity of all saints. Fr. Biju celebrated the Holy Eucharist and delivered the message.
URL:https://trinitariansindia.org/wp/event/solemnity-of-all-saints-2/
LOCATION:Holy Trinity Ashram\, Kasaragod
CATEGORIES:Feast
ATTACH;FMTTYPE=image/png:https://trinitariansindia.org/wp/wp-content/uploads/2022/12/KGQ-all-saints-day-Nov2022.png
END:VEVENT
END:VCALENDAR