BEGIN:VCALENDAR
VERSION:2.0
PRODID:-//The Trinitarians - India - ECPv5.3.2.1//NONSGML v1.0//EN
CALSCALE:GREGORIAN
METHOD:PUBLISH
X-WR-CALNAME:The Trinitarians - India
X-ORIGINAL-URL:https://trinitariansindia.org/wp
X-WR-CALDESC:Events for The Trinitarians - India
BEGIN:VTIMEZONE
TZID:UTC
BEGIN:STANDARD
TZOFFSETFROM:+0000
TZOFFSETTO:+0000
TZNAME:UTC
DTSTART:20210101T000000
END:STANDARD
END:VTIMEZONE
BEGIN:VEVENT
DTSTART;VALUE=DATE:20211217
DTEND;VALUE=DATE:20211218
DTSTAMP:20260423T094314
CREATED:20220111T084707Z
LAST-MODIFIED:20220111T084707Z
UID:9670-1639699200-1639785599@trinitariansindia.org
SUMMARY:Solemnity of St. John De Matha
DESCRIPTION:The community celebrated the solemnity of the founder\, St. John de Matha. Fr. Janil celebrated the Holy eucharist and Fr. Lijo delivered the homily. The Holy Cross Sisters’ joined us for the celebration. After the Holy Eucharist we had a meal together.
URL:https://trinitariansindia.org/wp/event/solemnity-of-st-john-de-matha/
LOCATION:Holy Trinity Ashram – Bengaluru\, Holy Trinity Ashram\, Bengaluru\, karnataka\, 560076\, India
CATEGORIES:Feast
ATTACH;FMTTYPE=image/png:https://trinitariansindia.org/wp/wp-content/uploads/2022/01/BLR-solemnity-of-st-john-de-matha-Dec2021.png
END:VEVENT
END:VCALENDAR