BEGIN:VCALENDAR
VERSION:2.0
PRODID:-//The Trinitarians - India - ECPv5.3.2.1//NONSGML v1.0//EN
CALSCALE:GREGORIAN
METHOD:PUBLISH
X-WR-CALNAME:The Trinitarians - India
X-ORIGINAL-URL:https://trinitariansindia.org/wp
X-WR-CALDESC:Events for The Trinitarians - India
BEGIN:VTIMEZONE
TZID:UTC
BEGIN:STANDARD
TZOFFSETFROM:+0000
TZOFFSETTO:+0000
TZNAME:UTC
DTSTART:20190101T000000
END:STANDARD
END:VTIMEZONE
BEGIN:VEVENT
DTSTART;TZID=UTC:20190327T080000
DTEND;TZID=UTC:20190327T170000
DTSTAMP:20260424T194212
CREATED:20190414T093417Z
LAST-MODIFIED:20190414T093417Z
UID:5879-1553673600-1553706000@trinitariansindia.org
SUMMARY:Special Sessions for Class IX and X
DESCRIPTION:Sr. Siji\, Fathima Sisters\, had special class on hygiene for the IX and X class students of St. Xavier’s school. It was well appreciated by the staff and students.
URL:https://trinitariansindia.org/wp/event/special-sessions-for-class-ix-and-x/
LOCATION:Tritva Bhavan\, Assam
CATEGORIES:Animation
ATTACH;FMTTYPE=image/png:https://trinitariansindia.org/wp/wp-content/uploads/2019/04/ASSAM-special-class-March-2019.png
END:VEVENT
END:VCALENDAR