BEGIN:VCALENDAR
VERSION:2.0
PRODID:-//The Trinitarians - India - ECPv5.3.2.1//NONSGML v1.0//EN
CALSCALE:GREGORIAN
METHOD:PUBLISH
X-WR-CALNAME:The Trinitarians - India
X-ORIGINAL-URL:https://trinitariansindia.org/wp
X-WR-CALDESC:Events for The Trinitarians - India
BEGIN:VTIMEZONE
TZID:UTC
BEGIN:STANDARD
TZOFFSETFROM:+0000
TZOFFSETTO:+0000
TZNAME:UTC
DTSTART:20240101T000000
END:STANDARD
END:VTIMEZONE
BEGIN:VEVENT
DTSTART;VALUE=DATE:20241023
DTEND;VALUE=DATE:20241024
DTSTAMP:20260422T083946
CREATED:20241026T042605Z
LAST-MODIFIED:20241026T042605Z
UID:13517-1729641600-1729727999@trinitariansindia.org
SUMMARY:The Holy Eucharist for the Persecuted
DESCRIPTION:The community at HTA Thrissur celebrated the feast of the Christ the Redeemer. Fr. Antony\, the Minister and the Councilor for the Apostolate\, was the main celebrant\, Frs. Mathew\, Francis\, and Sunil concelebrated. Fr. Sunil delivered a homily. Many participated in the program. Trinitarian Sisters\, Brothers\, Third Order Members and the inmates from Mercy Home attended it.
URL:https://trinitariansindia.org/wp/event/the-holy-eucharist-for-the-persecuted/
LOCATION:Holy Trinity Ashram\, Thrissur\, Holy Trinity Ashram\, Thrissur\, Kerala\, 680618\, India
CATEGORIES:Prayer day
ATTACH;FMTTYPE=image/png:https://trinitariansindia.org/wp/wp-content/uploads/2024/10/TCR-Mass-for-persecuted-Oct.2024.png
END:VEVENT
END:VCALENDAR