BEGIN:VCALENDAR
VERSION:2.0
PRODID:-//The Trinitarians - India - ECPv5.3.2.1//NONSGML v1.0//EN
CALSCALE:GREGORIAN
METHOD:PUBLISH
X-WR-CALNAME:The Trinitarians - India
X-ORIGINAL-URL:https://trinitariansindia.org/wp
X-WR-CALDESC:Events for The Trinitarians - India
BEGIN:VTIMEZONE
TZID:UTC
BEGIN:STANDARD
TZOFFSETFROM:+0000
TZOFFSETTO:+0000
TZNAME:UTC
DTSTART:20180101T000000
END:STANDARD
END:VTIMEZONE
BEGIN:VEVENT
DTSTART;VALUE=DATE:20180126
DTEND;VALUE=DATE:20180127
DTSTAMP:20260422T075450
CREATED:20180207T104328Z
LAST-MODIFIED:20180207T105633Z
UID:3861-1516924800-1517011199@trinitariansindia.org
SUMMARY:The Republic Day Celebration
DESCRIPTION:Community celebrated The Republic Day.  Soon after the Mass\, Fr. Minister hoisted the National Flag and gave a thought provoking message; he stressed the need of praying and loving our country and its people.
URL:https://trinitariansindia.org/wp/event/the-republic-day-celebration/
LOCATION:Holy Trinity Ashram\, Thrissur\, Holy Trinity Ashram\, Thrissur\, Kerala\, 680618\, India
CATEGORIES:Celebration
ATTACH;FMTTYPE=image/png:https://trinitariansindia.org/wp/wp-content/uploads/2018/02/Tcr-Republic-day-Jan.-2018.png
END:VEVENT
END:VCALENDAR