BEGIN:VCALENDAR
VERSION:2.0
PRODID:-//The Trinitarians - India - ECPv5.3.2.1//NONSGML v1.0//EN
CALSCALE:GREGORIAN
METHOD:PUBLISH
X-WR-CALNAME:The Trinitarians - India
X-ORIGINAL-URL:https://trinitariansindia.org/wp
X-WR-CALDESC:Events for The Trinitarians - India
BEGIN:VTIMEZONE
TZID:UTC
BEGIN:STANDARD
TZOFFSETFROM:+0000
TZOFFSETTO:+0000
TZNAME:UTC
DTSTART:20220101T000000
END:STANDARD
END:VTIMEZONE
BEGIN:VEVENT
DTSTART;VALUE=DATE:20220918
DTEND;VALUE=DATE:20220919
DTSTAMP:20260422T173559
CREATED:20221014T170216Z
LAST-MODIFIED:20221014T170216Z
UID:10920-1663459200-1663545599@trinitariansindia.org
SUMMARY:Third Order Meeting
DESCRIPTION:Third Order Meeting was conducted in the community. Fr. Rinto Lead the adoration and Fr. Biju gave the talk. Third order members wished all those who celebrate birthdays in September.
URL:https://trinitariansindia.org/wp/event/third-order-meeting-9/
LOCATION:Holy Trinity Ashram\, Kasaragod
CATEGORIES:Third Order
ATTACH;FMTTYPE=image/png:https://trinitariansindia.org/wp/wp-content/uploads/2022/10/KGQ-Third-Order-meeting-Sept2022.png
END:VEVENT
END:VCALENDAR