BEGIN:VCALENDAR
VERSION:2.0
PRODID:-//The Trinitarians - India - ECPv5.3.2.1//NONSGML v1.0//EN
CALSCALE:GREGORIAN
METHOD:PUBLISH
X-WR-CALNAME:The Trinitarians - India
X-ORIGINAL-URL:https://trinitariansindia.org/wp
X-WR-CALDESC:Events for The Trinitarians - India
BEGIN:VTIMEZONE
TZID:UTC
BEGIN:STANDARD
TZOFFSETFROM:+0000
TZOFFSETTO:+0000
TZNAME:UTC
DTSTART:20220101T000000
END:STANDARD
END:VTIMEZONE
BEGIN:VEVENT
DTSTART;VALUE=DATE:20220915
DTEND;VALUE=DATE:20220916
DTSTAMP:20260422T194712
CREATED:20221015T035645Z
LAST-MODIFIED:20221015T055806Z
UID:10938-1663200000-1663286399@trinitariansindia.org
SUMMARY:Triduo for the Feast of Madona del Reposo
DESCRIPTION:We the parish community of Ventosa began the Triduo for the feast of Madona del Reposo.  Fr. Alphonse was the main celebrant. We started with rosary then brought the statue of Madona del Reposo and Fr. Alphonse bless the statue followed by the holy Mass.
URL:https://trinitariansindia.org/wp/event/triduo-for-the-feast-of-madona-del-reposo/
CATEGORIES:Feast
ATTACH;FMTTYPE=image/png:https://trinitariansindia.org/wp/wp-content/uploads/2022/10/ITALY-feast-Sept2022.png
END:VEVENT
END:VCALENDAR