BEGIN:VCALENDAR
VERSION:2.0
PRODID:-//The Trinitarians - India - ECPv5.3.2.1//NONSGML v1.0//EN
CALSCALE:GREGORIAN
METHOD:PUBLISH
X-WR-CALNAME:The Trinitarians - India
X-ORIGINAL-URL:https://trinitariansindia.org/wp
X-WR-CALDESC:Events for The Trinitarians - India
BEGIN:VTIMEZONE
TZID:UTC
BEGIN:STANDARD
TZOFFSETFROM:+0000
TZOFFSETTO:+0000
TZNAME:UTC
DTSTART:20200101T000000
END:STANDARD
END:VTIMEZONE
BEGIN:VEVENT
DTSTART;VALUE=DATE:20201025
DTEND;VALUE=DATE:20201026
DTSTAMP:20260425T221428
CREATED:20201110T101610Z
LAST-MODIFIED:20201110T101610Z
UID:8097-1603584000-1603670399@trinitariansindia.org
SUMMARY:Veneration of the Word of God
DESCRIPTION:For the Monthly Recollection\, this time we had the Veneration of the Word of God. After the Holy Eucharist\, the Holy Bible was placed for veneration. The community recited entire 150 psalms on the day both in groups and personally.
URL:https://trinitariansindia.org/wp/event/veneration-of-the-word-of-god/
LOCATION:Holy Trinity Ashram\, Thrissur\, Holy Trinity Ashram\, Thrissur\, Kerala\, 680618\, India
CATEGORIES:Prayer day
ATTACH;FMTTYPE=image/png:https://trinitariansindia.org/wp/wp-content/uploads/2020/11/TCR-monthly-recollection-Oct2020.png
END:VEVENT
END:VCALENDAR