BEGIN:VCALENDAR
VERSION:2.0
PRODID:-//The Trinitarians - India - ECPv5.3.2.1//NONSGML v1.0//EN
CALSCALE:GREGORIAN
METHOD:PUBLISH
X-WR-CALNAME:The Trinitarians - India
X-ORIGINAL-URL:https://trinitariansindia.org/wp
X-WR-CALDESC:Events for The Trinitarians - India
BEGIN:VTIMEZONE
TZID:UTC
BEGIN:STANDARD
TZOFFSETFROM:+0000
TZOFFSETTO:+0000
TZNAME:UTC
DTSTART:20220101T000000
END:STANDARD
END:VTIMEZONE
BEGIN:VEVENT
DTSTART;VALUE=DATE:20221001
DTEND;VALUE=DATE:20221006
DTSTAMP:20260421T165442
CREATED:20220924T094407Z
LAST-MODIFIED:20220924T094632Z
UID:10860-1664582400-1665014399@trinitariansindia.org
SUMMARY:Vice Provincial Chapter: 01-05 October 2022
DESCRIPTION:
URL:https://trinitariansindia.org/wp/event/vice-provincial-chapter-01-05-october-2022/
LOCATION:Vice-Province Admin\, Holy Trinity Ashram\, Bangalore\, 560076\, India
CATEGORIES:Election
ATTACH;FMTTYPE=image/png:https://trinitariansindia.org/wp/wp-content/uploads/2019/10/VP-Chapter-Oct.2019.png
END:VEVENT
END:VCALENDAR