BEGIN:VCALENDAR
VERSION:2.0
PRODID:-//The Trinitarians - India - ECPv5.3.2.1//NONSGML v1.0//EN
CALSCALE:GREGORIAN
METHOD:PUBLISH
X-WR-CALNAME:The Trinitarians - India
X-ORIGINAL-URL:https://trinitariansindia.org/wp
X-WR-CALDESC:Events for The Trinitarians - India
BEGIN:VTIMEZONE
TZID:UTC
BEGIN:STANDARD
TZOFFSETFROM:+0000
TZOFFSETTO:+0000
TZNAME:UTC
DTSTART:20170101T000000
END:STANDARD
END:VTIMEZONE
BEGIN:VEVENT
DTSTART;VALUE=DATE:20170314
DTEND;VALUE=DATE:20170315
DTSTAMP:20260424T235752
CREATED:20170416T051438Z
LAST-MODIFIED:20170416T051728Z
UID:2490-1489449600-1489535999@trinitariansindia.org
SUMMARY:Visit of Minister Vice-Provincial
DESCRIPTION:Minister Vice-Provincial made a surprise visit to the community. He came to the community along with Fr. Binoj after their Council meeting to see the recent developments in the property and went back at 5 o’ clock in the evening.
URL:https://trinitariansindia.org/wp/event/visit-of-minister-vice-provincial/
LOCATION:Holy Trinity Ashram\, Kasaragod
CATEGORIES:Visit
ATTACH;FMTTYPE=image/png:https://trinitariansindia.org/wp/wp-content/uploads/2017/04/frjoseph-Kgq-March.png
END:VEVENT
END:VCALENDAR