BEGIN:VCALENDAR
VERSION:2.0
PRODID:-//The Trinitarians - India - ECPv5.3.2.1//NONSGML v1.0//EN
CALSCALE:GREGORIAN
METHOD:PUBLISH
X-WR-CALNAME:The Trinitarians - India
X-ORIGINAL-URL:https://trinitariansindia.org/wp
X-WR-CALDESC:Events for The Trinitarians - India
BEGIN:VTIMEZONE
TZID:UTC
BEGIN:STANDARD
TZOFFSETFROM:+0000
TZOFFSETTO:+0000
TZNAME:UTC
DTSTART:20230101T000000
END:STANDARD
END:VTIMEZONE
BEGIN:VEVENT
DTSTART;VALUE=DATE:20230709
DTEND;VALUE=DATE:20230710
DTSTAMP:20260425T124122
CREATED:20230802T103450Z
LAST-MODIFIED:20230802T103450Z
UID:12134-1688860800-1688947199@trinitariansindia.org
SUMMARY:Visit to the Humanitarian Hospital by Third Order Members
DESCRIPTION:The Third Order members of the Bangalore community gathered for the regular meeting and had Holy Mass and afterward visited the Humanitarian Hospital near Bannerghatta Circle. They spent some time with the inmates and provided some necessary commodities for them. Also\, they prayed with the inmates and the staff there.
URL:https://trinitariansindia.org/wp/event/visit-to-the-humanitarian-hospital-by-third-order-members/
LOCATION:Holy Trinity Ashram – Bengaluru\, Holy Trinity Ashram\, Bengaluru\, karnataka\, 560076\, India
CATEGORIES:Charity,Visit
ATTACH;FMTTYPE=image/png:https://trinitariansindia.org/wp/wp-content/uploads/2023/08/BLR-Third-Order-visit-to-Humanitarian-Hospital-July2023.png
END:VEVENT
END:VCALENDAR