BEGIN:VCALENDAR
VERSION:2.0
PRODID:-//The Trinitarians - India - ECPv5.3.2.1//NONSGML v1.0//EN
CALSCALE:GREGORIAN
METHOD:PUBLISH
X-WR-CALNAME:The Trinitarians - India
X-ORIGINAL-URL:https://trinitariansindia.org/wp
X-WR-CALDESC:Events for The Trinitarians - India
BEGIN:VTIMEZONE
TZID:UTC
BEGIN:STANDARD
TZOFFSETFROM:+0000
TZOFFSETTO:+0000
TZNAME:UTC
DTSTART:20190101T000000
END:STANDARD
END:VTIMEZONE
BEGIN:VEVENT
DTSTART;VALUE=DATE:20190328
DTEND;VALUE=DATE:20190331
DTSTAMP:20260424T161521
CREATED:20190412T110210Z
LAST-MODIFIED:20190412T110210Z
UID:5852-1553731200-1553990399@trinitariansindia.org
SUMMARY:Vocation Camp 2019
DESCRIPTION:Fr. Jaison\, the Director of Vocations\, arranged vocation camp for the candidates for a second time in Thrissur. There were eight candidates for camp and brothers Milton and Akhil helped out for the camp.
URL:https://trinitariansindia.org/wp/event/vocation-camp-2019/
LOCATION:Holy Trinity Ashram\, Thrissur\, Holy Trinity Ashram\, Thrissur\, Kerala\, 680618\, India
CATEGORIES:Vocation Camp
ATTACH;FMTTYPE=image/png:https://trinitariansindia.org/wp/wp-content/uploads/2019/04/TCR-vocation-camp-March2019.png
END:VEVENT
END:VCALENDAR