BEGIN:VCALENDAR
VERSION:2.0
PRODID:-//The Trinitarians - India - ECPv5.3.2.1//NONSGML v1.0//EN
CALSCALE:GREGORIAN
METHOD:PUBLISH
X-WR-CALNAME:The Trinitarians - India
X-ORIGINAL-URL:https://trinitariansindia.org/wp
X-WR-CALDESC:Events for The Trinitarians - India
BEGIN:VTIMEZONE
TZID:UTC
BEGIN:STANDARD
TZOFFSETFROM:+0000
TZOFFSETTO:+0000
TZNAME:UTC
DTSTART:20230101T000000
END:STANDARD
END:VTIMEZONE
BEGIN:VEVENT
DTSTART;VALUE=DATE:20231022
DTEND;VALUE=DATE:20231023
DTSTAMP:20260421T132211
CREATED:20231111T110950Z
LAST-MODIFIED:20231111T110950Z
UID:12542-1697932800-1698019199@trinitariansindia.org
SUMMARY:Vocation Camp
DESCRIPTION:Gathering is something that touch each one and make sparks in their hearts. We conducted camp for the girls where we could help them experience how is religious life during their stay with us.
URL:https://trinitariansindia.org/wp/event/vocation-camp-8/
LOCATION:Trinitarian Sisters\, Thrissur\, Holy Trinity Convent\, Thrissur\, Kerala\, 680618\, India
CATEGORIES:Vocation Camp
ATTACH;FMTTYPE=image/png:https://trinitariansindia.org/wp/wp-content/uploads/2023/11/SISTERS-vocation-camp-Oct2023.png
END:VEVENT
END:VCALENDAR