BEGIN:VCALENDAR
VERSION:2.0
PRODID:-//The Trinitarians - India - ECPv5.3.2.1//NONSGML v1.0//EN
CALSCALE:GREGORIAN
METHOD:PUBLISH
X-WR-CALNAME:The Trinitarians - India
X-ORIGINAL-URL:https://trinitariansindia.org/wp
X-WR-CALDESC:Events for The Trinitarians - India
BEGIN:VTIMEZONE
TZID:UTC
BEGIN:STANDARD
TZOFFSETFROM:+0000
TZOFFSETTO:+0000
TZNAME:UTC
DTSTART:20240101T000000
END:STANDARD
END:VTIMEZONE
BEGIN:VEVENT
DTSTART;VALUE=DATE:20241023
DTEND;VALUE=DATE:20241024
DTSTAMP:20260420T063912
CREATED:20241026T042454Z
LAST-MODIFIED:20241026T042454Z
UID:13515-1729641600-1729727999@trinitariansindia.org
SUMMARY:Way of the Cross for the Persecuted Christians
DESCRIPTION:There was a way of the Cross in the evening\, specially dedicated for the Persecuted Christians all over the world. All the fathers\, brothers\, Trinitarian sisters and third order members participated in it. We pray that God’s mercy and refuge be upon all the faithful and be protected from atrocities against their lives.
URL:https://trinitariansindia.org/wp/event/way-of-the-cross-for-the-persecuted-christians-3/
LOCATION:Holy Trinity Ashram\, Thrissur\, Holy Trinity Ashram\, Thrissur\, Kerala\, 680618\, India
CATEGORIES:Prayer day
ATTACH;FMTTYPE=image/png:https://trinitariansindia.org/wp/wp-content/uploads/2024/10/TCR-Way-of-the-Cross-for-persecuted-Oct.2024.png
END:VEVENT
END:VCALENDAR