BEGIN:VCALENDAR
VERSION:2.0
PRODID:-//The Trinitarians - India - ECPv5.3.2.1//NONSGML v1.0//EN
CALSCALE:GREGORIAN
METHOD:PUBLISH
X-WR-CALNAME:The Trinitarians - India
X-ORIGINAL-URL:https://trinitariansindia.org/wp
X-WR-CALDESC:Events for The Trinitarians - India
BEGIN:VTIMEZONE
TZID:UTC
BEGIN:STANDARD
TZOFFSETFROM:+0000
TZOFFSETTO:+0000
TZNAME:UTC
DTSTART:20240101T000000
END:STANDARD
END:VTIMEZONE
BEGIN:VEVENT
DTSTART;VALUE=DATE:20241020
DTEND;VALUE=DATE:20241021
DTSTAMP:20260419T170151
CREATED:20241026T055343Z
LAST-MODIFIED:20241026T055343Z
UID:13531-1729382400-1729468799@trinitariansindia.org
SUMMARY:Way of the Cross for the Persecuted Christians
DESCRIPTION:The community along with the Third Order and the members of the gathering of the Solemn Professed conducted a special Way of the Cross praying particularly for different countries that face severe persecution in various forms.
URL:https://trinitariansindia.org/wp/event/way-of-the-cross-for-the-persecuted-christians-4/
LOCATION:Holy Trinity Ashram – Bengaluru\, Holy Trinity Ashram\, Bengaluru\, karnataka\, 560076\, India
CATEGORIES:Prayer day
ATTACH;FMTTYPE=image/png:https://trinitariansindia.org/wp/wp-content/uploads/2024/10/BLR-way-of-the-cross-for-persecuted-Oct.2024.png
END:VEVENT
END:VCALENDAR