BEGIN:VCALENDAR
VERSION:2.0
PRODID:-//The Trinitarians - India - ECPv5.3.2.1//NONSGML v1.0//EN
CALSCALE:GREGORIAN
METHOD:PUBLISH
X-WR-CALNAME:The Trinitarians - India
X-ORIGINAL-URL:https://trinitariansindia.org/wp
X-WR-CALDESC:Events for The Trinitarians - India
BEGIN:VTIMEZONE
TZID:UTC
BEGIN:STANDARD
TZOFFSETFROM:+0000
TZOFFSETTO:+0000
TZNAME:UTC
DTSTART:20180101T000000
END:STANDARD
END:VTIMEZONE
BEGIN:VEVENT
DTSTART;VALUE=DATE:20180204
DTEND;VALUE=DATE:20180205
DTSTAMP:20260422T064500
CREATED:20180310T102302Z
LAST-MODIFIED:20180311T065605Z
UID:3964-1517702400-1517788799@trinitariansindia.org
SUMMARY:Wedding Anniversary
DESCRIPTION:The community wished Mr. Sudhkaran and Mrs. Preetha on the day of their wedding anniversary. The community appreciated their many years of service to the community.
URL:https://trinitariansindia.org/wp/event/wedding-anniversary/
LOCATION:Holy Trinity Ashram – Bengaluru\, Holy Trinity Ashram\, Bengaluru\, karnataka\, 560076\, India
CATEGORIES:Anniversary
ATTACH;FMTTYPE=image/png:https://trinitariansindia.org/wp/wp-content/uploads/2018/03/Blr-Wedding-anniversary-Feb2018.png
END:VEVENT
END:VCALENDAR