BEGIN:VCALENDAR
VERSION:2.0
PRODID:-//The Trinitarians - India - ECPv5.3.2.1//NONSGML v1.0//EN
CALSCALE:GREGORIAN
METHOD:PUBLISH
X-WR-CALNAME:The Trinitarians - India
X-ORIGINAL-URL:https://trinitariansindia.org/wp
X-WR-CALDESC:Events for The Trinitarians - India
BEGIN:VTIMEZONE
TZID:UTC
BEGIN:STANDARD
TZOFFSETFROM:+0000
TZOFFSETTO:+0000
TZNAME:UTC
DTSTART:20220101T000000
END:STANDARD
END:VTIMEZONE
BEGIN:VEVENT
DTSTART;VALUE=DATE:20220603
DTEND;VALUE=DATE:20220604
DTSTAMP:20260425T111223
CREATED:20220712T044744Z
LAST-MODIFIED:20220712T044744Z
UID:10499-1654214400-1654300799@trinitariansindia.org
SUMMARY:Welcome
DESCRIPTION:Fr. Santhosh and 2 more priests from Norbetine Fathers made a friendly visit to the community. They celebrated the Holy Eucharist for the community. Thanks to dear fathers for this koinonia.
URL:https://trinitariansindia.org/wp/event/welcome-26/
LOCATION:Holy Trinity Ashram\, Thrissur\, Holy Trinity Ashram\, Thrissur\, Kerala\, 680618\, India
CATEGORIES:Welcome
ATTACH;FMTTYPE=image/png:https://trinitariansindia.org/wp/wp-content/uploads/2022/07/TCR-congrats-newly-ordained-June2022.png
END:VEVENT
END:VCALENDAR