BEGIN:VCALENDAR
VERSION:2.0
PRODID:-//The Trinitarians - India - ECPv5.3.2.1//NONSGML v1.0//EN
CALSCALE:GREGORIAN
METHOD:PUBLISH
X-WR-CALNAME:The Trinitarians - India
X-ORIGINAL-URL:https://trinitariansindia.org/wp
X-WR-CALDESC:Events for The Trinitarians - India
BEGIN:VTIMEZONE
TZID:UTC
BEGIN:STANDARD
TZOFFSETFROM:+0000
TZOFFSETTO:+0000
TZNAME:UTC
DTSTART:20230101T000000
END:STANDARD
END:VTIMEZONE
BEGIN:VEVENT
DTSTART;VALUE=DATE:20230717
DTEND;VALUE=DATE:20230718
DTSTAMP:20260425T022031
CREATED:20230802T102303Z
LAST-MODIFIED:20230802T102448Z
UID:12126-1689552000-1689638399@trinitariansindia.org
SUMMARY:Welcome!
DESCRIPTION:The community gave a warm welcome to Bishop Aldo and Bro. Prakash. Bishop Aldo expressed his happiness in seeing the young brothers in India. \nThe Community welcomed Frs.  Antony\, Biju and Sunil as they came for the council meeting on 15th July.
URL:https://trinitariansindia.org/wp/event/welcome-34/
LOCATION:Holy Trinity Ashram – Bengaluru\, Holy Trinity Ashram\, Bengaluru\, karnataka\, 560076\, India
CATEGORIES:Welcome
ATTACH;FMTTYPE=image/png:https://trinitariansindia.org/wp/wp-content/uploads/2023/08/BLR-Welcome-July2023.png
END:VEVENT
END:VCALENDAR