BEGIN:VCALENDAR
VERSION:2.0
PRODID:-//The Trinitarians - India - ECPv5.3.2.1//NONSGML v1.0//EN
CALSCALE:GREGORIAN
METHOD:PUBLISH
X-WR-CALNAME:The Trinitarians - India
X-ORIGINAL-URL:https://trinitariansindia.org/wp
X-WR-CALDESC:Events for The Trinitarians - India
BEGIN:VTIMEZONE
TZID:UTC
BEGIN:STANDARD
TZOFFSETFROM:+0000
TZOFFSETTO:+0000
TZNAME:UTC
DTSTART:20220101T000000
END:STANDARD
END:VTIMEZONE
BEGIN:VEVENT
DTSTART;VALUE=DATE:20221001
DTEND;VALUE=DATE:20221002
DTSTAMP:20260421T171947
CREATED:20221104T050456Z
LAST-MODIFIED:20221104T050456Z
UID:11263-1664582400-1664668799@trinitariansindia.org
SUMMARY:Welcome and Thanks
DESCRIPTION:The Community celebrated the Feast of St. Theresa of Lisieux in a solemn way. Fr. Davis Peramangalam OFM. Cap.\, presided over the Holy Eucharist and preached the homily. Thanks to Capuchin fathers for their availability during the chapter time. From 1st to 5th\, they spared time to say Holy Mass at the community.
URL:https://trinitariansindia.org/wp/event/welcome-and-thanks/
LOCATION:Holy Trinity Ashram\, Thrissur\, Holy Trinity Ashram\, Thrissur\, Kerala\, 680618\, India
CATEGORIES:Welcome
ATTACH;FMTTYPE=image/png:https://trinitariansindia.org/wp/wp-content/uploads/2022/11/TCR-feast-Oct-2022.png
END:VEVENT
END:VCALENDAR