BEGIN:VCALENDAR
VERSION:2.0
PRODID:-//The Trinitarians - India - ECPv5.3.2.1//NONSGML v1.0//EN
CALSCALE:GREGORIAN
METHOD:PUBLISH
X-WR-CALNAME:The Trinitarians - India
X-ORIGINAL-URL:https://trinitariansindia.org/wp
X-WR-CALDESC:Events for The Trinitarians - India
BEGIN:VTIMEZONE
TZID:UTC
BEGIN:STANDARD
TZOFFSETFROM:+0000
TZOFFSETTO:+0000
TZNAME:UTC
DTSTART:20200101T000000
END:STANDARD
END:VTIMEZONE
BEGIN:VEVENT
DTSTART;VALUE=DATE:20200528
DTEND;VALUE=DATE:20200529
DTSTAMP:20260422T004450
CREATED:20200610T164432Z
LAST-MODIFIED:20200610T164432Z
UID:7527-1590624000-1590710399@trinitariansindia.org
SUMMARY:Welcome Back Fr. Vinay
DESCRIPTION:Fr. Vinay Kumar came back after his B.Ed. exams and holidays.  Fr. Vinay could not travel back earlier due to the lockdown.
URL:https://trinitariansindia.org/wp/event/welcome-back-fr-vinay/
LOCATION:Tritva Bhavan\, Assam
CATEGORIES:Welcome
ATTACH;FMTTYPE=image/png:https://trinitariansindia.org/wp/wp-content/uploads/2020/06/ASSAM-welcome-back-fr.Vinay-May-2020.png
END:VEVENT
END:VCALENDAR