BEGIN:VCALENDAR
VERSION:2.0
PRODID:-//The Trinitarians - India - ECPv5.3.2.1//NONSGML v1.0//EN
CALSCALE:GREGORIAN
METHOD:PUBLISH
X-WR-CALNAME:The Trinitarians - India
X-ORIGINAL-URL:https://trinitariansindia.org/wp
X-WR-CALDESC:Events for The Trinitarians - India
BEGIN:VTIMEZONE
TZID:UTC
BEGIN:STANDARD
TZOFFSETFROM:+0000
TZOFFSETTO:+0000
TZNAME:UTC
DTSTART:20230101T000000
END:STANDARD
END:VTIMEZONE
BEGIN:VEVENT
DTSTART;VALUE=DATE:20230721
DTEND;VALUE=DATE:20230722
DTSTAMP:20260424T144506
CREATED:20230807T050511Z
LAST-MODIFIED:20230807T050511Z
UID:12203-1689897600-1689983999@trinitariansindia.org
SUMMARY:Welcome Bro. Abin
DESCRIPTION:The Thrissur community welcomed Bro. Abin Varghese. The community enjoyed his presence and stay. Community was grateful for his stay and the help that he has done for the community.
URL:https://trinitariansindia.org/wp/event/welcome-bro-abin/
LOCATION:Holy Trinity Ashram\, Thrissur\, Holy Trinity Ashram\, Thrissur\, Kerala\, 680618\, India
ATTACH;FMTTYPE=image/png:https://trinitariansindia.org/wp/wp-content/uploads/2023/08/TCR-welcome-BrAbin-July2-23.png
END:VEVENT
END:VCALENDAR