BEGIN:VCALENDAR
VERSION:2.0
PRODID:-//The Trinitarians - India - ECPv5.3.2.1//NONSGML v1.0//EN
CALSCALE:GREGORIAN
METHOD:PUBLISH
X-WR-CALNAME:The Trinitarians - India
X-ORIGINAL-URL:https://trinitariansindia.org/wp
X-WR-CALDESC:Events for The Trinitarians - India
BEGIN:VTIMEZONE
TZID:UTC
BEGIN:STANDARD
TZOFFSETFROM:+0000
TZOFFSETTO:+0000
TZNAME:UTC
DTSTART:20230101T000000
END:STANDARD
END:VTIMEZONE
BEGIN:VEVENT
DTSTART;VALUE=DATE:20230723
DTEND;VALUE=DATE:20230724
DTSTAMP:20260424T074732
CREATED:20230807T050113Z
LAST-MODIFIED:20230807T050113Z
UID:12199-1690070400-1690156799@trinitariansindia.org
SUMMARY:Welcome Bro Peter Thomas
DESCRIPTION:The community welcomed Bro. Peter who is in postulancy in Kasargod community and he has come for his treatment. The community guaranteed him the prayers.
URL:https://trinitariansindia.org/wp/event/welcome-bro-peter-thomas/
LOCATION:Holy Trinity Ashram\, Thrissur\, Holy Trinity Ashram\, Thrissur\, Kerala\, 680618\, India
CATEGORIES:Welcome
ATTACH;FMTTYPE=image/png:https://trinitariansindia.org/wp/wp-content/uploads/2023/08/TCR-welcome-Peter-July2023.png
END:VEVENT
END:VCALENDAR