BEGIN:VCALENDAR
VERSION:2.0
PRODID:-//The Trinitarians - India - ECPv5.3.2.1//NONSGML v1.0//EN
CALSCALE:GREGORIAN
METHOD:PUBLISH
X-WR-CALNAME:The Trinitarians - India
X-ORIGINAL-URL:https://trinitariansindia.org/wp
X-WR-CALDESC:Events for The Trinitarians - India
BEGIN:VTIMEZONE
TZID:UTC
BEGIN:STANDARD
TZOFFSETFROM:+0000
TZOFFSETTO:+0000
TZNAME:UTC
DTSTART:20230101T000000
END:STANDARD
END:VTIMEZONE
BEGIN:VEVENT
DTSTART;VALUE=DATE:20230724
DTEND;VALUE=DATE:20230725
DTSTAMP:20260424T032011
CREATED:20230807T045903Z
LAST-MODIFIED:20230807T045903Z
UID:12197-1690156800-1690243199@trinitariansindia.org
SUMMARY:Welcome Bro. Walter
DESCRIPTION:The Thrissur community welcomed Bro. Walter as regent for the academic year. The community was happy to have bro Walter as regent to help out the community.
URL:https://trinitariansindia.org/wp/event/welcome-bro-walter/
LOCATION:Holy Trinity Ashram\, Thrissur\, Holy Trinity Ashram\, Thrissur\, Kerala\, 680618\, India
CATEGORIES:Welcome
ATTACH;FMTTYPE=image/png:https://trinitariansindia.org/wp/wp-content/uploads/2023/08/TCR-welcome-BrWalter-July2023.png
END:VEVENT
END:VCALENDAR