BEGIN:VCALENDAR
VERSION:2.0
PRODID:-//The Trinitarians - India - ECPv5.3.2.1//NONSGML v1.0//EN
CALSCALE:GREGORIAN
METHOD:PUBLISH
X-WR-CALNAME:The Trinitarians - India
X-ORIGINAL-URL:https://trinitariansindia.org/wp
X-WR-CALDESC:Events for The Trinitarians - India
BEGIN:VTIMEZONE
TZID:UTC
BEGIN:STANDARD
TZOFFSETFROM:+0000
TZOFFSETTO:+0000
TZNAME:UTC
DTSTART:20230101T000000
END:STANDARD
END:VTIMEZONE
BEGIN:VEVENT
DTSTART;VALUE=DATE:20230826
DTEND;VALUE=DATE:20230827
DTSTAMP:20260425T114638
CREATED:20230917T094428Z
LAST-MODIFIED:20230917T094428Z
UID:12372-1693008000-1693094399@trinitariansindia.org
SUMMARY:Welcome Fr. Bitaju
DESCRIPTION:The community gave a hearty welcome to Fr. Bitaju O.SS.T. It was a great joy to welcome Fr. Bitaju in our community.
URL:https://trinitariansindia.org/wp/event/welcome-fr-bitaju/
LOCATION:Holy Trinity Ashram\, Thrissur\, Holy Trinity Ashram\, Thrissur\, Kerala\, 680618\, India
CATEGORIES:Welcome
ATTACH;FMTTYPE=image/png:https://trinitariansindia.org/wp/wp-content/uploads/2023/09/TCR-welcome-frbitaju-Aug2023.png
END:VEVENT
END:VCALENDAR