BEGIN:VCALENDAR
VERSION:2.0
PRODID:-//The Trinitarians - India - ECPv5.3.2.1//NONSGML v1.0//EN
CALSCALE:GREGORIAN
METHOD:PUBLISH
X-WR-CALNAME:The Trinitarians - India
X-ORIGINAL-URL:https://trinitariansindia.org/wp
X-WR-CALDESC:Events for The Trinitarians - India
BEGIN:VTIMEZONE
TZID:UTC
BEGIN:STANDARD
TZOFFSETFROM:+0000
TZOFFSETTO:+0000
TZNAME:UTC
DTSTART:20230101T000000
END:STANDARD
END:VTIMEZONE
BEGIN:VEVENT
DTSTART;VALUE=DATE:20230731
DTEND;VALUE=DATE:20230801
DTSTAMP:20260423T233516
CREATED:20230807T043453Z
LAST-MODIFIED:20230807T043453Z
UID:12189-1690761600-1690847999@trinitariansindia.org
SUMMARY:Welcome Fr Renerse
DESCRIPTION:The community gave a warm welcome to Fr. Renerse. He cherished his memories with the community and had a wonderful time. The community wished him for his future endeavors along with the words of warm welcome.
URL:https://trinitariansindia.org/wp/event/welcome-fr-renerse/
LOCATION:Holy Trinity Ashram\, Thrissur\, Holy Trinity Ashram\, Thrissur\, Kerala\, 680618\, India
CATEGORIES:Welcome
ATTACH;FMTTYPE=image/png:https://trinitariansindia.org/wp/wp-content/uploads/2023/08/TCR-welcome-FrRenerse-July2023.png
END:VEVENT
END:VCALENDAR